{"text_format":"1","workbook":"xlsx","n_sheets":2,"sheets":["改定料金","Sheet1"],"not_rendered":{"charts":0,"images":0,"macros":1,"external_links":0,"defined_names":1,"comments":0,"pivot_tables":0},"unopened":[],"bounds":{"document_bytes":16777216,"sheet_cells":100000,"rows_first":2000,"rows_last":500,"rows_between":2000,"halvings":0,"cell_chars":16384,"cell_head_chars":4096},"cells_cut":0,"cells_raw":0,"read":"whole","date_system":"1900"}

{"sheet":"改定料金","index":0,"n_rows":33,"n_cols":30,"rows_kept":33,"cut":false,"hidden":false,"merged":[[21,24,22,24],[21,23,22,23],[21,20,22,22],[18,10,18,14],[24,20,24,22],[20,11,20,18],[20,9,20,10],[23,11,23,18],[24,11,24,18],[21,19,22,19],[21,11,22,18],[3,5,4,6],[3,1,4,4],[13,1,14,2],[13,3,14,5],[8,1,9,2],[8,3,9,11],[38,0,38,6],[39,0,39,6],[18,15,18,24],[18,0,18,3],[18,4,18,8],[20,6,20,8],[31,21,31,24],[27,21,27,24],[28,21,28,24],[29,21,29,24],[30,21,30,24],[32,21,32,24],[27,17,27,20],[20,19,20,24],[23,20,23,22],[36,0,36,6],[37,0,37,6],[31,0,31,10],[32,0,32,10],[31,11,31,16],[32,11,32,16],[28,17,28,20],[29,17,29,20],[25,11,25,18],[27,0,27,10],[27,11,27,16],[28,11,28,16],[29,11,29,16],[28,0,28,10],[29,0,29,10],[30,17,30,20],[31,17,31,20],[32,17,32,20],[30,11,30,16],[30,0,30,10],[20,0,20,5],[23,0,23,10],[24,0,24,10],[25,0,25,10],[21,0,22,10]]}
["由布市水道料金　現行料金と改定料金との比較"]
["※オレンジ色のところに数字を入れることで、改正料金がいくらになるか計算ができます。"]
["１.使用水量を入力してください。"]
[null,20,null,null,null,"㎥"]
[]
[]
["２.用途を右の表から選び、数字を入力してください。"]
[]
[null,10,null,{"$f":"VLOOKUP(B9,Sheet1!H7:I14,2,0)","v":"挾間庄内地域　一般家庭用"},null,null,null,null,null,null,null,null,null,null,"２.用途を入力"]
[null,null,null,null,null,null,null,null,null,null,null,null,null,null,"10　挾間庄内地域　一般家庭用"]
[null,null,null,null,null,null,null,null,null,null,null,null,null,null,"20　挾間庄内地域　官公署学校用"]
["３.量水器（メーター）口径を入力",null,null,null,null,null,null,null,null,null,null,null,null,null,"30　挾間庄内地域　事業所"]
[null,"してください。",null,null,null,null,null,null,null,null,null,null,null,null,"11　湯布院地域　　一般用"]
[null,"Φ",null,20,null,null,null,null,null,null,null,null,null,null,"21　湯布院地域　　営業用"]
[]
[]
[]
[]
["メーター口径",null,null,null,{"$f":"VLOOKUP(D14,Sheet1!$H$20:$I$28,2,0)","v":"Φ　２０"},null,null,null,null,null,"現行用途",null,null,null,null,{"$f":"VLOOKUP(B9,Sheet1!$H$7:$I$17,2,0)","v":"挾間庄内地域　一般家庭用"}]
[null,null,null,null,null,null,null,null,null,null,null,null,null,null,null,null,null,null,null,null,"消費税込み"]
["使用水量",null,null,null,null,null,{"$f":"+B4","v":20},null,null,"㎥",null,"水道料金",null,null,null,null,null,null,null,"左水道料金のうち\n基本料金の金額"]
["現行の水道料金",null,null,null,null,null,null,null,null,null,null,{"$f":"+Sheet1!F7","v":3030},null,null,null,null,null,null,null,null,{"$f":"+Sheet1!F8","v":1320},null,null,"円"]
[]
["差額",null,null,null,null,null,null,null,null,null,null,{"$f":"+L25-L22","v":490},null,null,null,null,null,null,null,null,{"$f":"+U25-U22","v":-110},null,null,"円"]
["改定後の水道料金",null,null,null,null,null,null,null,null,null,null,{"$f":"+Sheet1!F9","v":3520},null,null,null,null,null,null,null,null,{"$f":"+Sheet1!F10","v":1210},null,null,"円"]
["改定率",null,null,null,null,null,null,null,null,null,null,{"$f":"+L25/L22-1","v":0.16171617161716179}]
[]
["激変緩和措置\n（令和5年12月以降、継続使用の方が対象）",null,null,null,null,null,null,null,null,null,null,"水道料金",null,null,null,null,null,"前年との\n増加額",null,null,null,"備考"]
["令和６年２月検針分～令和７年3月\n1.15倍以内（最低料金：基本料金の1/5）",null,null,null,null,null,null,null,null,null,null,{"$f":"+Sheet1!D15","v":3480},null,null,null,null,null,{"$f":"+L29-L22","v":450},null,null,null,{"$f":"IF(L29=L25,\"緩和措置なし\",IF(ROUNDDOWN(U25*1/5,-1)=L29,\"基本料金の1/5\",\"1.15倍を上限\"))","v":"1.15倍を上限"},null,null,null,null,null,null,null,{"$f":"+Sheet1!E15","v":"1.15倍を上限"}]
["令和７年4月検針分～令和８年3月\n1.30倍以内（最低料金：基本料金の2/5）",null,null,null,null,null,null,null,null,null,null,{"$f":"+Sheet1!D16","v":3520},null,null,null,null,null,{"$f":"+L30-L29","v":40},null,null,null,{"$f":"IF(L30=L25,\"緩和措置なし\",IF(ROUNDDOWN(U25*2/5,-1)=L30,\"基本料金の2/5\",\"1.30倍を上限\"))","v":"緩和措置なし"},null,null,null,null,null,null,null,{"$f":"+Sheet1!E16","v":"1.30倍を上限"}]
["令和８年4月検針分～令和９年3月\n1.45倍以内（最低料金：基本料金の3/5）",null,null,null,null,null,null,null,null,null,null,{"$f":"+Sheet1!D17","v":3520},null,null,null,null,null,{"$f":"+L31-L30","v":0},null,null,null,{"$f":"IF(L31=L25,\"緩和措置なし\",IF(ROUNDDOWN(U25*3/5,-1)=L31,\"基本料金の3/5\",\"1.45倍を上限\"))","v":"緩和措置なし"},null,null,null,null,null,null,null,{"$f":"+Sheet1!E17","v":"1.45倍を上限"}]
["令和９年4月検針分～令和10年3月\n1.60倍以内（最低料金：基本料金の4/5）",null,null,null,null,null,null,null,null,null,null,{"$f":"+Sheet1!D18","v":3520},null,null,null,null,null,{"$f":"+L32-L31","v":0},null,null,null,{"$f":"IF(L32=L25,\"緩和措置なし\",IF(ROUNDDOWN(U25*4/5,-1)=L32,\"基本料金の4/5\",\"1.60倍を上限\"))","v":"緩和措置なし"},null,null,null,null,null,null,null,{"$f":"+Sheet1!E18","v":"1.60倍を上限"}]
["令和10年4月検針分～",null,null,null,null,null,null,null,null,null,null,{"$f":"+Sheet1!D19","v":3520},null,null,null,null,null,{"$f":"+L33-L32","v":0}]

{"sheet":"Sheet1","index":1,"n_rows":64,"n_cols":37,"rows_kept":64,"cut":false,"hidden":false,"merged":[]}
[]
["用途",{"$f":"+改定料金!B9","v":10}]
["口径",{"$f":"+改定料金!D14","v":20}]
["水量",{"$f":"+改定料金!B4","v":20},{"$f":"IF(B4-Sheet1!AB12=0,\"OK　\",\"数式エラー\")","v":"OK　"}]
[null,null,null,null,null,null,null,1,2,3,4,5,null,null,null,null,null,null,null,null,null,null,null,null,null,null,null,null,1,2,3,4,5,6,7,8,9]
[null,null,"税抜き料金","消費税","税込み料金","端数処理後",null,"番号","用途（現行）","基本料金","水量","金額","基本水量",null,null,"Φ13","Φ20","Φ25","Φ30","Φ40","Φ50","Φ75","Φ100","Φ150",null,null,null,"㎥","Φ13","Φ20","Φ25","Φ30","Φ40","Φ50","Φ75","Φ100","Φ150"]
["現行の水道料金",{"$f":"VLOOKUP(B2,$H$7:$L$17,5,0)","v":2750},{"$f":"+B7","v":2750},{"$f":"+C7*0.1","v":275},{"$f":"+C7+D7","v":3025},{"$f":"ROUND(E7,-1)","v":3030},null,10,"挾間庄内地域　一般家庭用",1200,{"$f":"IF(155*(B4-10)>=0,155*(B4-10),0)","v":1550},{"$f":"+J7+K7","v":2750},"基本水量10㎥",null,"  0㎥～ 10㎥",50,50,50,160,160,160,160,160,160,null,"改正後料金",null,null,{"$f":"SUM(AC8:AC22)","v":2100},2100,2100,3300,3300,3300,3300,3300,3300]
["現行の基本料金",{"$f":"VLOOKUP(B2,$H$7:$L$17,3,0)","v":1200},{"$f":"+B8","v":1200},{"$f":"+C8*0.1","v":120},{"$f":"+C8+D8","v":1320},{"$f":"ROUND(E8,-1)","v":1320},null,20,"挾間庄内地域　官公署学校用",0,{"$f":"205*B4","v":4100},{"$f":"+J8+K8","v":4100},"基本水量　無",null," 11㎥～100㎥",160,160,160,170,170,170,170,170,170,null,"  0㎥～ 10㎥",{"$f":"IF(Sheet1!B4>10,10,Sheet1!B4-0)","v":10},{"$f":"IF(AA8>=0,AA8,0)","v":10},{"$f":"$AB8*P7","v":500},{"$f":"$AB$8*Q7","v":500},500,1600,1600,1600,1600,1600,1600]
["改正の水道料金",{"$f":"VLOOKUP(B3,$H$20:$L$28,5,0)","v":3200},3200,{"$f":"+C9*0.1","v":320},{"$f":"+C9+D9","v":3520},{"$f":"ROUNDDOWN(E9,-1)","v":3520},null,30,"挾間庄内地域　事業所",0,{"$f":"205*B4","v":4100},4100,"基本水量　無",null,"101㎥～",180,180,180,180,180,180,180,180,180,null," 11㎥～100㎥",{"$f":"IF(Sheet1!$B$4>100,90,Sheet1!$B$4-10)","v":10},10,{"$f":"$AB$9*P8","v":1600},1600,1600,1700,1700,1700,1700,1700,1700]
["改正の基本料金",{"$f":"VLOOKUP(B3,$H$20:$L$28,3,0)","v":1100},1100,{"$f":"+C10*0.1","v":110},1210,1210,null,null,"挾間庄内地域　共用",0,{"$f":"180*B4","v":3600},3600,"基本水量　無",null,null,null,null,null,null,null,null,null,null,null,null,"101㎥～",{"$f":"Sheet1!$B$4-100","v":-80},{"$f":"IF(AA10>=0,AA10,0)","v":0},{"$f":"$AB$10*P9","v":0},0,0,0,0,0,0,0,0]
["改定率",{"$f":"+B9/B7-1","v":0.16363636363636358},null,null,null,null,null,11,"湯布院地域　　一般用",850,{"$f":"IF(100*(B4-10)>=0,100*(B4-10),0)","v":1000},{"$f":"+J11+K11","v":1850},"基本水量10㎥"]
[null,null,null,null,null,null,null,21,"湯布院地域　　営業用",850,{"$f":"IF(100*(B4-10)>=0,100*(B4-10),0)","v":1000},1850,"基本水量10㎥",null,null,null,null,null,null,null,null,null,null,null,null,"㎥合計",null,{"$f":"SUM(AB8:AB10)","v":20}]
[null,null,null,null,null,null,null,31,"湯布院地域　　浴場営業用",850,{"$f":"IF(100*(B4-10)>=0,100*(B4-10),0)","v":1000},1850,"基本水量10㎥"]
["緩和措置",null,"税込み料金","端数処理後",null,null,null,41,"湯布院地域　　共用給水",850,{"$f":"IF(100*(B4-10)>=0,100*(B4-10),0)","v":1000},1850,"基本水量10㎥"]
[1.1499999999999999,{"$f":"IF($F$7*A15<$F$9,$F$7*A15,$F$9)","v":3484.4999999999995},{"$f":"IF(B15<E10/5,E10/5,B15)","v":3484.4999999999995},{"$f":"ROUNDDOWN(C15,-1)","v":3480},{"$f":"IF(B15<E10/5,\"基本料金の1/5\",\"1.15倍を上限\")","v":"1.15倍を上限"},null,null,null,"挾間庄内地域　臨時用－緊急用",0,{"$f":"350*B4","v":7000},7000,0]
[1.3,{"$f":"IF($F$7*A16<$F$9,$F$7*A16,$F$9)","v":3520},{"$f":"IF(B16<E10*2/5,E10*2/5,B16)","v":3520},{"$f":"ROUNDDOWN(C16,-1)","v":3520},{"$f":"IF(B16<E10*2/5,\"基本料金の2/5\",\"1.30倍を上限\")","v":"1.30倍を上限"},null,null,null,"挾間庄内地域　臨時用－施設用",0,{"$f":"600*B4","v":12000},12000,0]
[1.45,{"$f":"IF($F$7*A17<$F$9,$F$7*A17,$F$9)","v":3520},{"$f":"IF(B17<E10*3/5,E10*3/5,B17)","v":3520},{"$f":"ROUNDDOWN(C17,-1)","v":3520},{"$f":"IF(B17<E10*3/5,\"基本料金の3/5\",\"1.45倍を上限\")","v":"1.45倍を上限"},null,null,null,"湯布院地域　　臨時用",850,{"$f":"IF(200*(B4-10)>=0,200*(B4-10),0)","v":2000},2850,0]
[1.6,{"$f":"IF($F$7*A18<$F$9,$F$7*A18,$F$9)","v":3520},{"$f":"IF(B18<E10*4/5,E10*4/5,B18)","v":3520},{"$f":"ROUNDDOWN(C18,-1)","v":3520},{"$f":"IF(B18<E10*4/5,\"基本料金の4/5\",\"1.60倍を上限\")","v":"1.60倍を上限"}]
["５年目",{"$f":"+F9","v":3520},{"$f":"+B19","v":3520},{"$f":"ROUNDDOWN(C19,-1)","v":3520},null,null,null,"番号","口径（改正後）","基本料金","水量","金額"]
[null,null,null,null,null,null,null,13,"Φ　１３",900,{"$f":"+Sheet1!AC7","v":2100},{"$f":"+J20+K20","v":3000}]
[null,null,null,null,null,null,null,20,"Φ　２０",1100,{"$f":"+Sheet1!AD7","v":2100},3200]
[null,null,null,null,null,null,null,25,"Φ　２５",1700,{"$f":"+Sheet1!AE7","v":2100},3800]
[null,null,null,null,null,null,null,30,"Φ　３０",2600,{"$f":"+Sheet1!AF7","v":3300},5900]
[null,null,null,null,null,null,null,40,"Φ　４０",4400,{"$f":"+Sheet1!AG7","v":3300},7700]
[null,null,null,null,null,null,null,50,"Φ　５０",6000,{"$f":"+Sheet1!AH7","v":3300},9300]
[null,null,null,null,null,null,null,75,"Φ　７５",11800,{"$f":"+Sheet1!AI7","v":3300},15100]
[null,null,null,null,null,null,null,100,"Φ１００",26000,{"$f":"+Sheet1!AJ7","v":3300},29300]
[null,null,null,null,null,null,null,150,"Φ１５０",46700,{"$f":"+Sheet1!AK7","v":3300},50000]
[]
[]
[]
[]
[]
["用途",{"$f":"+#REF!","v":{"$error":"#REF!"}}]
["口径",{"$f":"+#REF!","v":{"$error":"#REF!"}}]
["水量",{"$f":"+#REF!","v":{"$error":"#REF!"}},{"$f":"IF(B36-Sheet1!AB44=0,\"OK　\",\"数式エラー\")","v":{"$error":"#REF!"}}]
[null,null,null,null,null,null,null,1,2,3,4,5,null,null,null,null,null,null,null,null,null,null,null,null,null,null,null,null,1,2,3,4,5,6,7,8,9]
[null,null,"税抜き料金","消費税","税込み料金","端数処理後",null,"番号","用途（現行）","基本料金","水量","金額","緩和措置適用",null,null,"Φ13","Φ20","Φ25","Φ30","Φ40","Φ50","Φ75","Φ100","Φ150",null,null,null,"㎥","Φ13","Φ20","Φ25","Φ30","Φ40","Φ50","Φ75","Φ100","Φ150"]
["現行の水道料金",{"$f":"VLOOKUP(B34,$H$39:$L$49,5,0)","v":{"$error":"#REF!"}},{"$f":"+B39","v":{"$error":"#REF!"}},{"$f":"+C39*0.1","v":{"$error":"#REF!"}},{"$f":"+C39+D39","v":{"$error":"#REF!"}},{"$f":"ROUND(E39,-1)","v":{"$error":"#REF!"}},null,10,"挾間庄内地域　一般家庭用",1200,{"$f":"IF(155*(B36-10)>=0,155*(B36-10),0)","v":{"$error":"#REF!"}},{"$f":"+J39+K39","v":{"$error":"#REF!"}},1,null,"  0㎥～ 10㎥",50,50,50,160,160,160,160,160,160,null,"改正後料金",null,null,{"$f":"SUM(AC40:AC54)","v":{"$error":"#REF!"}},{"$error":"#REF!"},{"$error":"#REF!"},{"$error":"#REF!"},{"$error":"#REF!"},{"$error":"#REF!"},{"$error":"#REF!"},{"$error":"#REF!"},{"$error":"#REF!"}]
["現行の基本料金",{"$f":"VLOOKUP(B34,$H$39:$L$49,3,0)","v":{"$error":"#REF!"}},{"$f":"+B40","v":{"$error":"#REF!"}},{"$f":"+C40*0.1","v":{"$error":"#REF!"}},{"$f":"+C40+D40","v":{"$error":"#REF!"}},{"$f":"ROUND(E40,-1)","v":{"$error":"#REF!"}},null,20,"挾間庄内地域　官公署学校用",0,{"$f":"205*B36","v":{"$error":"#REF!"}},{"$f":"+J40+K40","v":{"$error":"#REF!"}},1,null," 11㎥～100㎥",160,160,160,170,170,170,170,170,170,null,"  0㎥～ 10㎥",{"$f":"IF(Sheet1!B36>10,10,Sheet1!B36-0)","v":{"$error":"#REF!"}},{"$f":"IF(AA40>=0,AA40,0)","v":{"$error":"#REF!"}},{"$f":"$AB40*P39","v":{"$error":"#REF!"}},{"$f":"$AB40*Q39","v":{"$error":"#REF!"}},{"$error":"#REF!"},{"$error":"#REF!"},{"$error":"#REF!"},{"$error":"#REF!"},{"$error":"#REF!"},{"$error":"#REF!"},{"$error":"#REF!"}]
["改正の水道料金",{"$f":"VLOOKUP(B35,$H$52:$L$60,5,0)","v":{"$error":"#REF!"}},{"$error":"#REF!"},{"$f":"+C41*0.1","v":{"$error":"#REF!"}},{"$f":"+C41+D41","v":{"$error":"#REF!"}},{"$f":"ROUNDDOWN(E41,-1)","v":{"$error":"#REF!"}},null,30,"挾間庄内地域　事業所",0,{"$f":"205*B36","v":{"$error":"#REF!"}},{"$error":"#REF!"},1,null,"101㎥～",180,180,180,180,180,180,180,180,180,null," 11㎥～100㎥",{"$f":"IF(Sheet1!$B$36>100,90,Sheet1!$B$36-10)","v":{"$error":"#REF!"}},{"$error":"#REF!"},{"$f":"$AB$41*P40","v":{"$error":"#REF!"}},{"$error":"#REF!"},{"$error":"#REF!"},{"$error":"#REF!"},{"$error":"#REF!"},{"$error":"#REF!"},{"$error":"#REF!"},{"$error":"#REF!"},{"$error":"#REF!"}]
["改正の基本料金",{"$f":"VLOOKUP(B35,$H$20:$L$28,3,0)","v":{"$error":"#REF!"}},{"$error":"#REF!"},{"$f":"+C42*0.1","v":{"$error":"#REF!"}},{"$error":"#REF!"},{"$f":"ROUNDDOWN(E42,-1)","v":{"$error":"#REF!"}},null,40,"挾間庄内地域　共用",0,{"$f":"180*B36","v":{"$error":"#REF!"}},{"$error":"#REF!"},1,null,null,null,null,null,null,null,null,null,null,null,null,"101㎥～",{"$f":"Sheet1!$B$36-100","v":{"$error":"#REF!"}},{"$f":"IF(AA42>=0,AA42,0)","v":{"$error":"#REF!"}},{"$f":"$AB$42*P41","v":{"$error":"#REF!"}},{"$f":"$AB$42*Q41","v":{"$error":"#REF!"}},{"$f":"$AB$42*R41","v":{"$error":"#REF!"}},{"$error":"#REF!"},{"$error":"#REF!"},{"$error":"#REF!"},{"$error":"#REF!"},{"$error":"#REF!"},{"$error":"#REF!"}]
["改定率",{"$f":"+B41/B39-1","v":{"$error":"#REF!"}},null,null,null,null,null,11,"湯布院地域　　一般用",850,{"$f":"IF(100*(B36-10)>=0,100*(B36-10),0)","v":{"$error":"#REF!"}},{"$error":"#REF!"},1]
[null,null,null,null,null,null,null,21,"湯布院地域　　営業用",850,{"$f":"IF(100*(B36-10)>=0,100*(B36-10),0)","v":{"$error":"#REF!"}},{"$error":"#REF!"},1,null,null,null,null,null,null,null,null,null,null,null,null,"㎥合計",null,{"$f":"SUM(AB40:AB42)","v":{"$error":"#REF!"}}]
[null,null,null,null,null,null,null,31,"湯布院地域　　浴場営業用",850,{"$f":"IF(100*(B36-10)>=0,100*(B36-10),0)","v":{"$error":"#REF!"}},{"$error":"#REF!"},1]
["緩和措置",null,"税込み料金","端数処理後",null,null,null,41,"湯布院地域　　共用給水",850,{"$f":"IF(100*(B36-10)>=0,100*(B36-10),0)","v":{"$error":"#REF!"}},{"$error":"#REF!"},1]
[1.1499999999999999,{"$f":"IF($F$39*A47<$F$41,$F$39*A47,$F$41)","v":{"$error":"#REF!"}},{"$f":"IF(B47<B42/5,B42/5,B47)","v":{"$error":"#REF!"}},{"$f":"ROUNDDOWN(C47,-1)","v":{"$error":"#REF!"}},null,null,null,null,"挾間庄内地域　臨時用－緊急用",0,{"$f":"350*B36","v":{"$error":"#REF!"}},{"$error":"#REF!"},0]
[1.3,{"$f":"IF($F$39*A48<$F$41,$F$39*A48,$F$41)","v":{"$error":"#REF!"}},{"$f":"IF(B48<B42*2/5,B42*2/5,B48)","v":{"$error":"#REF!"}},{"$f":"ROUNDDOWN(C48,-1)","v":{"$error":"#REF!"}},null,null,null,null,"挾間庄内地域　臨時用－施設用",0,{"$f":"600*B36","v":{"$error":"#REF!"}},{"$error":"#REF!"},0]
[1.45,{"$error":"#REF!"},{"$f":"IF(B49<B42*3/5,B42*3/5,B49)","v":{"$error":"#REF!"}},{"$error":"#REF!"},null,null,null,null,"湯布院地域　　臨時用",850,{"$f":"IF(200*(B36-10)>=0,200*(B36-10),0)","v":{"$error":"#REF!"}},{"$error":"#REF!"},0]
[1.6,{"$error":"#REF!"},{"$f":"IF(B50<B42*4/5,B42*4/5,B50)","v":{"$error":"#REF!"}},{"$error":"#REF!"}]
["５年目",{"$f":"+F41","v":{"$error":"#REF!"}},{"$f":"+B51","v":{"$error":"#REF!"}},{"$f":"ROUNDDOWN(C51,-1)","v":{"$error":"#REF!"}},null,null,null,"番号","口径（改正後）","基本料金","水量","金額"]
[null,null,null,null,null,null,null,13,"Φ　１３",900,{"$f":"+Sheet1!AC39","v":{"$error":"#REF!"}},{"$f":"+J52+K52","v":{"$error":"#REF!"}}]
[null,null,null,null,null,null,null,20,"Φ　２０",1100,{"$f":"+Sheet1!AD39","v":{"$error":"#REF!"}},{"$error":"#REF!"}]
[null,null,null,null,null,null,null,25,"Φ　２５",1700,{"$f":"+Sheet1!AE39","v":{"$error":"#REF!"}},{"$error":"#REF!"}]
[null,null,null,null,null,null,null,30,"Φ　３０",2600,{"$f":"+Sheet1!AF39","v":{"$error":"#REF!"}},{"$error":"#REF!"}]
[null,null,null,null,null,null,null,40,"Φ　４０",4400,{"$f":"+Sheet1!AG39","v":{"$error":"#REF!"}},{"$error":"#REF!"}]
[null,null,null,null,null,null,null,50,"Φ　５０",6000,{"$f":"+Sheet1!AH39","v":{"$error":"#REF!"}},{"$error":"#REF!"}]
[null,null,null,null,null,null,null,75,"Φ　７５",11800,{"$f":"+Sheet1!AI39","v":{"$error":"#REF!"}},{"$error":"#REF!"}]
[null,null,null,null,null,null,null,100,"Φ１００",26000,{"$f":"+Sheet1!AJ39","v":{"$error":"#REF!"}},{"$error":"#REF!"}]
[null,null,null,null,null,null,null,150,"Φ１５０",46700,{"$f":"+Sheet1!AK39","v":{"$error":"#REF!"}},{"$error":"#REF!"}]
[]
[]
[null,null,null,null,null,null,null,10]
[null,null,null,null,null,null,null,11]